Name | Last modified | Size | Description | |
---|---|---|---|---|
Parent Directory | - | |||
buildbin-summary.dcf | 24-Jul-2024 22:06 | 510 | ||
buildbin-out.txt | 24-Jul-2024 22:06 | 6.9K | ||
checksrc-summary.dcf | 24-Jul-2024 22:06 | 431 | ||
checksrc-out.txt | 24-Jul-2024 22:06 | 4.9K | ||
buildsrc-summary.dcf | 24-Jul-2024 22:06 | 418 | ||
buildsrc-out.txt | 24-Jul-2024 22:06 | 833 | ||
install-summary.dcf | 24-Jul-2024 22:06 | 263 | ||
install-out.txt | 24-Jul-2024 22:06 | 4.7K | ||