Index of /checkResults/release/bioc-LATEST/raer/raw-results/lconway

[ICO]NameLast modifiedSizeDescription

[DIR]Parent Directory  -  
[TXT]buildbin-out.txt29-May-2024 00:35 7.1K 
[   ]buildbin-summary.dcf29-May-2024 00:35 509  
[TXT]buildsrc-out.txt29-May-2024 00:35 833  
[   ]buildsrc-summary.dcf29-May-2024 00:35 417  
[TXT]checksrc-out.txt29-May-2024 00:35 4.6K 
[   ]checksrc-summary.dcf29-May-2024 00:35 430  
[TXT]install-out.txt29-May-2024 00:35 4.7K 
[   ]install-summary.dcf29-May-2024 00:35 262