Back to Multiple platform build/check report for BioC 3.16
ABCDEFGHIJKLMNOPQ[R]STUVWXYZ

This page was generated on 2022-12-06 11:06:55 -0500 (Tue, 06 Dec 2022).

HostnameOSArch (*)R versionInstalled pkgs
nebbiolo2Linux (Ubuntu 20.04.5 LTS)x86_644.2.2 (2022-10-31) -- "Innocent and Trusting" 4506
palomino4Windows Server 2022 Datacenterx644.2.2 (2022-10-31 ucrt) -- "Innocent and Trusting" 4283
lconwaymacOS 12.5.1 Montereyx86_644.2.2 (2022-10-31) -- "Innocent and Trusting" 4312
Click on any hostname to see more info about the system (e.g. compilers)      (*) as reported by 'uname -p', except on Windows and Mac OS X

BUILD results for rTRMui on nebbiolo2


To the developers/maintainers of the rTRMui package:
- Please allow up to 24 hours (and sometimes 48 hours) for your latest push to git@git.bioconductor.org:packages/rTRMui.git to
reflect on this report. See How and When does the builder pull? When will my changes propagate? for more information.
- Make sure to use the following settings in order to reproduce any error or warning you see on this page.

raw results

Package 1751/2183HostnameOS / ArchINSTALLBUILDCHECKBUILD BIN
rTRMui 1.36.0  (landing page)
Diego Diez
Snapshot Date: 2022-12-05 14:00:06 -0500 (Mon, 05 Dec 2022)
git_url: https://git.bioconductor.org/packages/rTRMui
git_branch: RELEASE_3_16
git_last_commit: 8f4ce3c
git_last_commit_date: 2022-11-01 11:08:44 -0500 (Tue, 01 Nov 2022)
nebbiolo2Linux (Ubuntu 20.04.5 LTS) / x86_64  OK    OK    OK  UNNEEDED, same version is already published
palomino4Windows Server 2022 Datacenter / x64  OK    OK    OK    OK  UNNEEDED, same version is already published
lconwaymacOS 12.5.1 Monterey / x86_64  OK    OK    OK    OK  UNNEEDED, same version is already published

Summary

Package: rTRMui
Version: 1.36.0
Command: /home/biocbuild/bbs-3.16-bioc/R/bin/R CMD build --keep-empty-dirs --no-resave-data rTRMui
StartedAt: 2022-12-05 17:49:29 -0500 (Mon, 05 Dec 2022)
EndedAt: 2022-12-05 17:50:31 -0500 (Mon, 05 Dec 2022)
EllapsedTime: 62.0 seconds
RetCode: 0
Status:   OK  
PackageFile: rTRMui_1.36.0.tar.gz
PackageFileSize: 1.017 MiB

Command output

##############################################################################
##############################################################################
###
### Running command:
###
###   /home/biocbuild/bbs-3.16-bioc/R/bin/R CMD build --keep-empty-dirs --no-resave-data rTRMui
###
##############################################################################
##############################################################################


* checking for file ‘rTRMui/DESCRIPTION’ ... OK
* preparing ‘rTRMui’:
* checking DESCRIPTION meta-information ... OK
* installing the package to build vignettes
* creating vignettes ... OK
* checking for LF line-endings in source and make files and shell scripts
* checking for empty or unneeded directories
* building ‘rTRMui_1.36.0.tar.gz’