Name | Last modified | Size | Description | |
---|---|---|---|---|
Parent Directory | - | |||
install-summary.dcf | 27-Jul-2024 06:39 | 262 | ||
install-out.txt | 27-Jul-2024 06:39 | 1.5K | ||
checksrc-summary.dcf | 27-Jul-2024 06:39 | 435 | ||
checksrc-out.txt | 27-Jul-2024 06:39 | 3.7K | ||
buildsrc-summary.dcf | 27-Jul-2024 06:39 | 439 | ||
buildsrc-out.txt | 27-Jul-2024 06:39 | 1.4K | ||
buildbin-summary.dcf | 27-Jul-2024 06:39 | 497 | ||
buildbin-out.txt | 27-Jul-2024 06:39 | 1.6K | ||