Name | Last modified | Size | Description | |
---|---|---|---|---|
Parent Directory | - | |||
buildbin-summary.dcf | 29-Jun-2024 06:42 | 497 | ||
buildbin-out.txt | 29-Jun-2024 06:42 | 1.6K | ||
checksrc-summary.dcf | 29-Jun-2024 06:42 | 435 | ||
checksrc-out.txt | 29-Jun-2024 06:42 | 3.7K | ||
buildsrc-summary.dcf | 29-Jun-2024 06:42 | 440 | ||
buildsrc-out.txt | 29-Jun-2024 06:42 | 1.4K | ||
install-out.txt | 29-Jun-2024 06:42 | 1.5K | ||
install-summary.dcf | 29-Jun-2024 06:42 | 262 | ||