Index of /checkResults/release/bioc-LATEST/rTRM/raw-results/palomino3

[ICO]NameLast modifiedSizeDescription

[DIR]Parent Directory  -  
[TXT]buildbin-out.txt15-Jun-2024 03:38 1.6K 
[   ]buildbin-summary.dcf15-Jun-2024 03:38 497  
[TXT]buildsrc-out.txt15-Jun-2024 03:38 1.4K 
[   ]buildsrc-summary.dcf15-Jun-2024 03:38 440  
[TXT]checksrc-out.txt15-Jun-2024 03:38 3.7K 
[   ]checksrc-summary.dcf15-Jun-2024 03:38 435  
[TXT]install-out.txt15-Jun-2024 03:38 1.5K 
[   ]install-summary.dcf15-Jun-2024 03:38 262