Index of /checkResults/release/bioc-LATEST/rTRM/raw-results/lconway

[ICO]NameLast modifiedSizeDescription

[DIR]Parent Directory  -  
[TXT]buildbin-out.txt22-May-2024 00:38 1.7K 
[   ]buildbin-summary.dcf22-May-2024 00:38 512  
[TXT]buildsrc-out.txt22-May-2024 00:38 1.4K 
[   ]buildsrc-summary.dcf22-May-2024 00:38 418  
[TXT]checksrc-out.txt22-May-2024 00:38 3.8K 
[   ]checksrc-summary.dcf22-May-2024 00:38 432  
[TXT]install-out.txt22-May-2024 00:38 1.5K 
[   ]install-summary.dcf22-May-2024 00:38 263