Back to Multiple platform build/check report for BioC 3.12
ABCDEFGHIJKLMNOPQ[R]STUVWXYZ

BUILD report for rTANDEM on nebbiolo1

This page was generated on 2021-02-27 12:11:19 -0500 (Sat, 27 Feb 2021).

To the developers/maintainers of the rTANDEM package:
Please make sure to use the following settings in order to reproduce any error or warning you see on this page.
Package 1589/1974HostnameOS / ArchINSTALLBUILDCHECKBUILD BIN
rTANDEM 1.30.0
Frederic Fournier
Snapshot Date: 2021-02-26 14:50:01 -0500 (Fri, 26 Feb 2021)
URL: https://git.bioconductor.org/packages/rTANDEM
Branch: RELEASE_3_12
Last Commit: 96455bf
Last Changed Date: 2020-10-27 10:48:41 -0500 (Tue, 27 Oct 2020)
malbec1Linux (Ubuntu 18.04.5 LTS) / x86_64  OK    OK    ERROR  
nebbiolo1Linux (Ubuntu 20.04.2 LTS) / x86_64  OK    OK    NA  
tokay1Windows Server 2012 R2 Standard / x64  OK    OK    ERROR    NA  
merida1macOS 10.14.6 Mojave / x86_64  ERROR    ERROR  skippedskipped

Summary

Package: rTANDEM
Version: 1.30.0
Command: /home/biocbuild/bbs-3.12-bioc/R/bin/R CMD build --keep-empty-dirs --no-resave-data rTANDEM
StartedAt: 2021-02-26 20:35:24 -0500 (Fri, 26 Feb 2021)
EndedAt: 2021-02-26 20:37:47 -0500 (Fri, 26 Feb 2021)
EllapsedTime: 143.1 seconds
RetCode: 0
Status:   OK  
PackageFile: rTANDEM_1.30.0.tar.gz
PackageFileSize: 2.001 MiB

Command output

##############################################################################
##############################################################################
###
### Running command:
###
###   /home/biocbuild/bbs-3.12-bioc/R/bin/R CMD build --keep-empty-dirs --no-resave-data rTANDEM
###
##############################################################################
##############################################################################


* checking for file ‘rTANDEM/DESCRIPTION’ ... OK
* preparing ‘rTANDEM’:
* checking DESCRIPTION meta-information ... OK
* cleaning src
* installing the package to build vignettes
* creating vignettes ... OK
Warning: ‘inst/doc’ file
    ‘rTANDEM.Rnw’
  ignored as vignettes have been rebuilt.
  Run R CMD build with --no-build-vignettes to prevent rebuilding.
* cleaning src
* checking for LF line-endings in source and make files and shell scripts
* checking for empty or unneeded directories
* building ‘rTANDEM_1.30.0.tar.gz’