Index of /checkResults/release/bioc-LATEST/rScudo/raw-results
Name
Last modified
Size
Description
Parent Directory
-
info.dcf
24-Sep-2023 00:37
275
merida1/
24-Sep-2023 00:37
-
nebbiolo1/
24-Sep-2023 00:35
-
palomino3/
24-Sep-2023 00:36
-