Name | Last modified | Size | Description | |
---|---|---|---|---|
Parent Directory | - | |||
install-summary.dcf | 05-Mar-2024 01:39 | 267 | ||
buildsrc-summary.dcf | 05-Mar-2024 01:39 | 425 | ||
checksrc-summary.dcf | 05-Mar-2024 01:39 | 446 | ||
buildbin-summary.dcf | 05-Mar-2024 01:39 | 525 | ||
buildsrc-out.txt | 05-Mar-2024 01:39 | 842 | ||
checksrc-out.txt | 05-Mar-2024 01:39 | 6.0K | ||
install-out.txt | 05-Mar-2024 01:39 | 12K | ||
buildbin-out.txt | 05-Mar-2024 01:39 | 14K | ||