Name | Last modified | Size | Description | |
---|---|---|---|---|
Parent Directory | - | |||
buildbin-out.txt | 04-May-2024 00:40 | 14K | ||
buildbin-summary.dcf | 04-May-2024 00:40 | 524 | ||
buildsrc-out.txt | 04-May-2024 00:40 | 842 | ||
buildsrc-summary.dcf | 04-May-2024 00:40 | 424 | ||
checksrc-out.txt | 04-May-2024 00:40 | 6.0K | ||
checksrc-summary.dcf | 04-May-2024 00:40 | 446 | ||
install-out.txt | 04-May-2024 00:40 | 12K | ||
install-summary.dcf | 04-May-2024 00:40 | 267 | ||