Index of /checkResults/release/bioc-LATEST/qsvaR/raw-results/nebbiolo2

[ICO]NameLast modifiedSizeDescription

[DIR]Parent Directory  -  
[   ]install-summary.dcf30-Mar-2024 00:36 254  
[   ]checksrc-summary.dcf30-Mar-2024 00:36 404  
[   ]buildsrc-summary.dcf30-Mar-2024 00:36 410  
[TXT]buildsrc-out.txt30-Mar-2024 00:36 797  
[TXT]install-out.txt30-Mar-2024 00:36 1.0K 
[TXT]checksrc-out.txt30-Mar-2024 00:36 3.3K