Index of /checkResults/release/bioc-LATEST/qsea/raw-results/palomino4

[ICO]NameLast modifiedSizeDescription

[DIR]Parent Directory  -  
[TXT]buildbin-out.txt02-Mar-2024 01:37 1.5K 
[   ]buildbin-summary.dcf02-Mar-2024 01:37 497  
[TXT]buildsrc-out.txt02-Mar-2024 01:37 916  
[   ]buildsrc-summary.dcf02-Mar-2024 01:37 440  
[TXT]checksrc-out.txt02-Mar-2024 01:37 4.1K 
[   ]checksrc-summary.dcf02-Mar-2024 01:37 435  
[TXT]install-out.txt02-Mar-2024 01:37 1.4K 
[   ]install-summary.dcf02-Mar-2024 01:37 262