Index of /checkResults/release/bioc-LATEST/qsea/raw-results/nebbiolo2

[ICO]NameLast modifiedSizeDescription

[DIR]Parent Directory  -  
[TXT]buildsrc-out.txt02-Mar-2024 01:36 887  
[   ]buildsrc-summary.dcf02-Mar-2024 01:36 408  
[TXT]checksrc-out.txt02-Mar-2024 01:36 3.7K 
[   ]checksrc-summary.dcf02-Mar-2024 01:36 402  
[TXT]install-out.txt02-Mar-2024 01:36 1.4K 
[   ]install-summary.dcf02-Mar-2024 01:36 253