Index of /checkResults/release/bioc-LATEST/qsea/raw-results/lconway

[ICO]NameLast modifiedSizeDescription

[DIR]Parent Directory  -  
[TXT]buildbin-out.txt23-Feb-2024 01:38 3.4K 
[   ]buildbin-summary.dcf23-Feb-2024 01:38 512  
[TXT]buildsrc-out.txt23-Feb-2024 01:38 897  
[   ]buildsrc-summary.dcf23-Feb-2024 01:38 418  
[TXT]checksrc-out.txt23-Feb-2024 01:38 3.7K 
[   ]checksrc-summary.dcf23-Feb-2024 01:38 432  
[TXT]install-out.txt23-Feb-2024 01:38 1.6K 
[   ]install-summary.dcf23-Feb-2024 01:38 263