Name | Last modified | Size | Description | |
---|---|---|---|---|
Parent Directory | - | |||
checksrc-out.txt | 22-May-2024 00:38 | 4.1K | ||
checksrc-summary.dcf | 22-May-2024 00:38 | 444 | ||
buildbin-out.txt | 22-May-2024 00:38 | 7.1K | ||
buildbin-summary.dcf | 22-May-2024 00:38 | 530 | ||
install-out.txt | 23-May-2024 00:36 | 703 | ||
install-summary.dcf | 23-May-2024 00:36 | 272 | ||
buildsrc-out.txt | 23-May-2024 00:36 | 938 | ||
buildsrc-summary.dcf | 23-May-2024 00:36 | 342 | ||