Index of /checkResults/release/bioc-LATEST/qmtools/raw-results/palomino4

[ICO]NameLast modifiedSizeDescription

[DIR]Parent Directory  -  
[TXT]install-out.txt30-Mar-2024 00:37 971  
[   ]install-summary.dcf30-Mar-2024 00:37 267  
[   ]buildsrc-summary.dcf30-Mar-2024 00:37 450  
[TXT]buildsrc-out.txt30-Mar-2024 00:37 898  
[TXT]checksrc-out.txt30-Mar-2024 00:37 3.3K 
[   ]checksrc-summary.dcf30-Mar-2024 00:37 445  
[TXT]buildbin-out.txt30-Mar-2024 00:37 1.1K 
[   ]buildbin-summary.dcf30-Mar-2024 00:37 512