Index of /checkResults/release/bioc-LATEST/qmtools/raw-results/nebbiolo2

[ICO]NameLast modifiedSizeDescription

[DIR]Parent Directory  -  
[TXT]buildsrc-out.txt03-Mar-2024 01:36 868  
[   ]buildsrc-summary.dcf03-Mar-2024 01:36 414  
[TXT]checksrc-out.txt03-Mar-2024 01:36 3.5K 
[   ]checksrc-summary.dcf03-Mar-2024 01:36 412  
[TXT]install-out.txt03-Mar-2024 01:36 960  
[   ]install-summary.dcf03-Mar-2024 01:36 258