Index of /checkResults/release/bioc-LATEST/qmtools/raw-results/lconway

[ICO]NameLast modifiedSizeDescription

[DIR]Parent Directory  -  
[TXT]buildbin-out.txt23-Feb-2024 01:38 1.1K 
[   ]buildbin-summary.dcf23-Feb-2024 01:38 527  
[TXT]buildsrc-out.txt23-Feb-2024 01:38 878  
[   ]buildsrc-summary.dcf23-Feb-2024 01:38 425  
[TXT]checksrc-out.txt23-Feb-2024 01:38 3.4K 
[   ]checksrc-summary.dcf23-Feb-2024 01:38 442  
[TXT]install-out.txt23-Feb-2024 01:38 1.0K 
[   ]install-summary.dcf23-Feb-2024 01:38 268