Name | Last modified | Size | Description | |
---|---|---|---|---|
Parent Directory | - | |||
buildbin-out.txt | 24-Jul-2024 22:05 | 1.2K | ||
buildbin-summary.dcf | 24-Jul-2024 22:05 | 551 | ||
buildsrc-out.txt | 24-Jul-2024 22:05 | 929 | ||
buildsrc-summary.dcf | 24-Jul-2024 22:05 | 477 | ||
checksrc-out.txt | 24-Jul-2024 22:05 | 7.8K | ||
checksrc-summary.dcf | 24-Jul-2024 22:05 | 471 | ||
install-out.txt | 24-Jul-2024 22:05 | 1.0K | ||
install-summary.dcf | 24-Jul-2024 22:05 | 280 | ||