Index of /checkResults/release/bioc-LATEST/qPLEXanalyzer/raw-results/palomino4

[ICO]NameLast modifiedSizeDescription

[DIR]Parent Directory  -  
[TXT]buildbin-out.txt23-Feb-2024 01:37 1.2K 
[   ]buildbin-summary.dcf23-Feb-2024 01:37 551  
[TXT]buildsrc-out.txt23-Feb-2024 01:37 929  
[   ]buildsrc-summary.dcf23-Feb-2024 01:37 477  
[TXT]checksrc-out.txt23-Feb-2024 01:37 7.6K 
[   ]checksrc-summary.dcf23-Feb-2024 01:37 471  
[TXT]install-out.txt23-Feb-2024 01:37 1.0K 
[   ]install-summary.dcf23-Feb-2024 01:37 280