Name | Last modified | Size | Description | |
---|---|---|---|---|
Parent Directory | - | |||
buildbin-out.txt | 29-Jun-2024 06:42 | 1.2K | ||
buildbin-summary.dcf | 29-Jun-2024 06:42 | 551 | ||
buildsrc-out.txt | 29-Jun-2024 06:42 | 929 | ||
buildsrc-summary.dcf | 29-Jun-2024 06:42 | 477 | ||
checksrc-out.txt | 29-Jun-2024 06:42 | 7.9K | ||
checksrc-summary.dcf | 29-Jun-2024 06:42 | 471 | ||
install-out.txt | 29-Jun-2024 06:42 | 1.0K | ||
install-summary.dcf | 29-Jun-2024 06:42 | 280 | ||