Index of /checkResults/release/bioc-LATEST/qPLEXanalyzer/raw-results/nebbiolo2

[ICO]NameLast modifiedSizeDescription

[DIR]Parent Directory  -  
[TXT]buildsrc-out.txt03-Mar-2024 01:36 893  
[   ]buildsrc-summary.dcf03-Mar-2024 01:36 435  
[TXT]checksrc-out.txt03-Mar-2024 01:36 7.8K 
[   ]checksrc-summary.dcf03-Mar-2024 01:36 438  
[TXT]install-out.txt03-Mar-2024 01:36 1.0K 
[   ]install-summary.dcf03-Mar-2024 01:36 271