Name | Last modified | Size | Description | |
---|---|---|---|---|
Parent Directory | - | |||
checksrc-out.txt | 27-Jul-2024 06:38 | 8.0K | ||
install-out.txt | 27-Jul-2024 06:38 | 1.0K | ||
buildsrc-out.txt | 27-Jul-2024 06:38 | 893 | ||
checksrc-summary.dcf | 27-Jul-2024 06:38 | 438 | ||
buildsrc-summary.dcf | 27-Jul-2024 06:38 | 435 | ||
install-summary.dcf | 27-Jul-2024 06:38 | 271 | ||