Name | Last modified | Size | Description | |
---|---|---|---|---|
Parent Directory | - | |||
buildsrc-out.txt | 10-May-2024 00:41 | 904 | ||
buildsrc-summary.dcf | 10-May-2024 00:41 | 446 | ||
checksrc-out.txt | 10-May-2024 00:41 | 8.2K | ||
checksrc-summary.dcf | 10-May-2024 00:41 | 475 | ||
install-out.txt | 10-May-2024 00:41 | 1.1K | ||
install-summary.dcf | 10-May-2024 00:41 | 282 | ||