Index of /checkResults/release/bioc-LATEST/qPLEXanalyzer/raw-results/kunpeng2

[ICO]NameLast modifiedSizeDescription

[DIR]Parent Directory  -  
[TXT]buildsrc-out.txt03-Nov-2023 00:41 887  
[   ]buildsrc-summary.dcf03-Nov-2023 00:41 429  
[TXT]checksrc-out.txt03-Nov-2023 00:41 7.9K 
[   ]checksrc-summary.dcf03-Nov-2023 00:41 441  
[TXT]install-out.txt03-Nov-2023 00:41 1.0K 
[   ]install-summary.dcf03-Nov-2023 00:41 265