Back to Multiple platform build/check report for BioC 3.18:   simplified   long
ABCDEFGHIJKLMNOP[Q]RSTUVWXYZ

This page was generated on 2024-03-02 11:36:01 -0500 (Sat, 02 Mar 2024).

HostnameOSArch (*)R versionInstalled pkgs
nebbiolo2Linux (Ubuntu 22.04.3 LTS)x86_644.3.2 Patched (2023-11-13 r85521) -- "Eye Holes" 4692
palomino4Windows Server 2022 Datacenterx644.3.2 (2023-10-31 ucrt) -- "Eye Holes" 4445
lconwaymacOS 12.7.1 Montereyx86_644.3.2 Patched (2023-11-01 r85457) -- "Eye Holes" 4466
Click on any hostname to see more info about the system (e.g. compilers)      (*) as reported by 'uname -p', except on Windows and Mac OS X

Package 1627/2266HostnameOS / ArchINSTALLBUILDCHECKBUILD BIN
qPLEXanalyzer 1.20.0  (landing page)
Ashley Sawle
Snapshot Date: 2024-03-01 14:05:09 -0500 (Fri, 01 Mar 2024)
git_url: https://git.bioconductor.org/packages/qPLEXanalyzer
git_branch: RELEASE_3_18
git_last_commit: 18ccb64
git_last_commit_date: 2023-10-24 11:06:20 -0500 (Tue, 24 Oct 2023)
nebbiolo2Linux (Ubuntu 22.04.3 LTS) / x86_64  OK    OK    OK  UNNEEDED, same version is already published
palomino4Windows Server 2022 Datacenter / x64  OK    OK    OK    OK  UNNEEDED, same version is already published
lconwaymacOS 12.7.1 Monterey / x86_64  OK    OK    OK    OK  UNNEEDED, same version is already published
kjohnson1macOS 13.6.1 Ventura / arm64see weekly results here

CHECK results for qPLEXanalyzer on nebbiolo2


To the developers/maintainers of the qPLEXanalyzer package:
- Allow up to 24 hours (and sometimes 48 hours) for your latest push to git@git.bioconductor.org:packages/qPLEXanalyzer.git to reflect on this report. See Troubleshooting Build Report for more information.
- Use the following Renviron settings to reproduce errors and warnings.
- If 'R CMD check' started to fail recently on the Linux builder(s) over a missing dependency, add the missing dependency to 'Suggests:' in your DESCRIPTION file. See Renviron.bioc for more information.

raw results


Summary

Package: qPLEXanalyzer
Version: 1.20.0
Command: /home/biocbuild/bbs-3.18-bioc/R/bin/R CMD check --install=check:qPLEXanalyzer.install-out.txt --library=/home/biocbuild/bbs-3.18-bioc/R/site-library --timings qPLEXanalyzer_1.20.0.tar.gz
StartedAt: 2024-03-02 01:20:22 -0500 (Sat, 02 Mar 2024)
EndedAt: 2024-03-02 01:23:08 -0500 (Sat, 02 Mar 2024)
EllapsedTime: 166.3 seconds
RetCode: 0
Status:   OK  
CheckDir: qPLEXanalyzer.Rcheck
Warnings: 0

Command output

##############################################################################
##############################################################################
###
### Running command:
###
###   /home/biocbuild/bbs-3.18-bioc/R/bin/R CMD check --install=check:qPLEXanalyzer.install-out.txt --library=/home/biocbuild/bbs-3.18-bioc/R/site-library --timings qPLEXanalyzer_1.20.0.tar.gz
###
##############################################################################
##############################################################################


* using log directory ‘/home/biocbuild/bbs-3.18-bioc/meat/qPLEXanalyzer.Rcheck’
* using R version 4.3.2 Patched (2023-11-13 r85521)
* using platform: x86_64-pc-linux-gnu (64-bit)
* R was compiled by
    gcc (Ubuntu 11.4.0-1ubuntu1~22.04) 11.4.0
    GNU Fortran (Ubuntu 11.4.0-1ubuntu1~22.04) 11.4.0
* running under: Ubuntu 22.04.4 LTS
* using session charset: UTF-8
* checking for file ‘qPLEXanalyzer/DESCRIPTION’ ... OK
* checking extension type ... Package
* this is package ‘qPLEXanalyzer’ version ‘1.20.0’
* package encoding: UTF-8
* checking package namespace information ... OK
* checking package dependencies ... OK
* checking if this is a source package ... OK
* checking if there is a namespace ... OK
* checking for hidden files and directories ... OK
* checking for portable file names ... OK
* checking for sufficient/correct file permissions ... OK
* checking whether package ‘qPLEXanalyzer’ can be installed ... OK
* checking installed package size ... OK
* checking package directory ... OK
* checking ‘build’ directory ... OK
* checking DESCRIPTION meta-information ... OK
* checking top-level files ... OK
* checking for left-over files ... OK
* checking index information ... OK
* checking package subdirectories ... NOTE
Problems with news in ‘NEWS’:
  Cannot process chunk/lines:
    Updates to vignette to avoid build errors when attempting to connect to Uniprot
* checking R files for non-ASCII characters ... OK
* checking R files for syntax errors ... OK
* checking whether the package can be loaded ... OK
* checking whether the package can be loaded with stated dependencies ... OK
* checking whether the package can be unloaded cleanly ... OK
* checking whether the namespace can be loaded with stated dependencies ... OK
* checking whether the namespace can be unloaded cleanly ... OK
* checking loading without being on the library search path ... OK
* checking dependencies in R code ... OK
* checking S3 generic/method consistency ... OK
* checking replacement functions ... OK
* checking foreign function calls ... OK
* checking R code for possible problems ... NOTE
convertToMSnset: no visible binding for global variable ‘SampleName’
corrPlot: no visible binding for global variable ‘X’
corrPlot: no visible binding for global variable ‘AddValues’
corrPlot: no visible binding for global variable ‘Cor’
corrPlot: no visible binding for global variable ‘Y’
corrPlot: no visible binding for global variable ‘CorTxt’
coveragePlot: no visible binding for global variable ‘Accessions’
coveragePlot: no visible binding for global variable ‘Sequences’
getContrastResults: no visible binding for global variable ‘B’
getContrastResults: no visible binding for global variable ‘AveExpr’
getContrastResults: no visible binding for global variable ‘logFC’
groupScaling: no visible binding for global variable ‘sInt’
groupScaling: no visible binding for global variable
  ‘meanscaledIntensity’
hierarchicalPlot: no visible binding for global variable ‘x’
hierarchicalPlot: no visible binding for global variable ‘y’
hierarchicalPlot: no visible binding for global variable ‘xend’
hierarchicalPlot: no visible binding for global variable ‘yend’
hierarchicalPlot: no visible binding for global variable ‘SampleName’
intensityBoxplot: no visible binding for global variable ‘Intensity’
intensityBoxplot: no visible binding for global variable ‘logInt’
intensityBoxplot: no visible binding for global variable ‘SampleName’
intensityPlot: no visible binding for global variable ‘Intensity’
intensityPlot: no visible binding for global variable ‘SampleName’
maVolPlot: no visible binding for global variable ‘group’
maVolPlot: no visible binding for global variable ‘adj.P.Val’
maVolPlot: no visible binding for global variable ‘GeneSymbol’
maVolPlot: no visible binding for global variable ‘SymbolLab’
mergePeptides: no visible binding for global variable ‘Accessions’
mergePeptides: no visible binding for global variable ‘Sequences’
mergePeptides: no visible binding for global variable ‘Seq_Acc’
mergePeptides: no visible global function definition for ‘where’
mergePeptides: no visible binding for global variable ‘Count’
mergeSites: no visible binding for global variable ‘Accessions’
mergeSites: no visible binding for global variable ‘Sites’
mergeSites: no visible binding for global variable ‘Type’
mergeSites: no visible binding for global variable ‘Sites_Acc’
mergeSites: no visible global function definition for ‘where’
mergeSites: no visible binding for global variable ‘Count’
peptideIntensityPlot: no visible binding for global variable
  ‘PeptideID’
peptideIntensityPlot: no visible binding for global variable
  ‘Intensity’
peptideIntensityPlot: no visible binding for global variable
  ‘Accessions’
peptideIntensityPlot: no visible binding for global variable
  ‘SampleName’
peptideIntensityPlot: no visible binding for global variable
  ‘logIntensity’
peptideIntensityPlot: no visible binding for global variable
  ‘Sequences’
peptideIntensityPlot: no visible binding for global variable
  ‘Modifications’
plotMeanVar: no visible binding for global variable ‘x’
plotMeanVar: no visible binding for global variable ‘y’
plotMeanVar: no visible binding for global variable ‘Mean’
plotMeanVar: no visible binding for global variable ‘Variance’
rliPlot: no visible binding for global variable ‘RowID’
rliPlot: no visible binding for global variable ‘Intensity’
rliPlot: no visible binding for global variable ‘logInt’
rliPlot: no visible binding for global variable ‘medianLogInt’
rliPlot: no visible binding for global variable ‘SampleName’
rliPlot: no visible binding for global variable ‘RLI’
summarizeIntensities: no visible binding for global variable
  ‘Accessions’
summarizeIntensities: no visible binding for global variable
  ‘Sequences’
summarizeIntensities: no visible global function definition for ‘where’
summarizeIntensities: no visible binding for global variable ‘Count’
Undefined global functions or variables:
  Accessions AddValues AveExpr B Cor CorTxt Count GeneSymbol Intensity
  Mean Modifications PeptideID RLI RowID SampleName Seq_Acc Sequences
  Sites Sites_Acc SymbolLab Type Variance X Y adj.P.Val group logFC
  logInt logIntensity meanscaledIntensity medianLogInt sInt where x
  xend y yend
* checking Rd files ... OK
* checking Rd metadata ... OK
* checking Rd cross-references ... OK
* checking for missing documentation entries ... OK
* checking for code/documentation mismatches ... OK
* checking Rd \usage sections ... OK
* checking Rd contents ... OK
* checking for unstated dependencies in examples ... OK
* checking contents of ‘data’ directory ... OK
* checking data for non-ASCII characters ... OK
* checking data for ASCII and uncompressed saves ... OK
* checking files in ‘vignettes’ ... OK
* checking examples ... OK
* checking for unstated dependencies in vignettes ... OK
* checking package vignettes in ‘inst/doc’ ... OK
* checking running R code from vignettes ...
  ‘qPLEXanalyzer.Rmd’ using ‘UTF-8’... OK
 NONE
* checking re-building of vignette outputs ... OK
* checking PDF version of manual ... OK
* DONE

Status: 2 NOTEs
See
  ‘/home/biocbuild/bbs-3.18-bioc/meat/qPLEXanalyzer.Rcheck/00check.log’
for details.



Installation output

qPLEXanalyzer.Rcheck/00install.out

##############################################################################
##############################################################################
###
### Running command:
###
###   /home/biocbuild/bbs-3.18-bioc/R/bin/R CMD INSTALL qPLEXanalyzer
###
##############################################################################
##############################################################################


* installing to library ‘/home/biocbuild/bbs-3.18-bioc/R/site-library’
* installing *source* package ‘qPLEXanalyzer’ ...
** using staged installation
** R
** data
** inst
** byte-compile and prepare package for lazy loading
Note: wrong number of arguments to '==' 
Note: wrong number of arguments to '==' 
** help
*** installing help indices
** building package indices
** installing vignettes
** testing if installed package can be loaded from temporary location
** testing if installed package can be loaded from final location
** testing if installed package keeps a record of temporary installation path
* DONE (qPLEXanalyzer)

Tests output


Example timings

qPLEXanalyzer.Rcheck/qPLEXanalyzer-Ex.timings

nameusersystemelapsed
IRSnorm3.8720.1924.064
assignColours0.2270.0080.234
computeDiffStats0.4740.0080.482
convertToMSnset0.2240.0000.224
corrPlot0.7650.0040.770
coveragePlot0.6650.0200.688
getContrastResults0.9620.0401.002
groupScaling0.2530.0000.253
hierarchicalPlot0.2950.0040.299
intensityBoxplot0.9670.0320.998
intensityPlot1.3110.0321.343
maVolPlot0.9640.0120.975
mergePeptides0.5580.0240.582
mergeSites0.2210.0120.232
normalizeQuantiles0.2360.0120.248
normalizeScaling0.2400.0080.248
pcaPlot0.6070.0040.611
peptideIntensityPlot0.6010.0000.601
plotMeanVar0.6110.0160.626
regressIntensity1.9330.0401.973
rliPlot1.5920.0201.612
rowScaling0.5060.0040.510
summarizeIntensities0.3520.0040.356