Index of /checkResults/release/bioc-LATEST/pulsedSilac/raw-results
Name
Last modified
Size
Description
Parent Directory
-
info.dcf
21-Apr-2023 01:50
287
nebbiolo2/
21-Apr-2023 01:50
-