Name | Last modified | Size | Description | |
---|---|---|---|---|
Parent Directory | - | |||
buildsrc-out.txt | 30-Mar-2024 00:36 | 876 | ||
buildsrc-summary.dcf | 30-Mar-2024 00:36 | 418 | ||
checksrc-out.txt | 30-Mar-2024 00:36 | 5.2K | ||
checksrc-summary.dcf | 30-Mar-2024 00:36 | 420 | ||
install-out.txt | 30-Mar-2024 00:36 | 2.3K | ||
install-summary.dcf | 30-Mar-2024 00:36 | 259 | ||