Index of /checkResults/release/bioc-LATEST/ptairMS/raw-results/kjohnson1

[ICO]NameLast modifiedSizeDescription

[DIR]Parent Directory  -  
[TXT]buildbin-out.txt17-Jul-2024 06:42 4.7K 
[   ]buildbin-summary.dcf17-Jul-2024 06:42 530  
[TXT]buildsrc-out.txt20-Jul-2024 06:41 886  
[   ]buildsrc-summary.dcf20-Jul-2024 06:41 428  
[TXT]checksrc-out.txt20-Jul-2024 06:41 5.9K 
[   ]checksrc-summary.dcf20-Jul-2024 06:41 448  
[TXT]install-out.txt20-Jul-2024 06:41 2.7K 
[   ]install-summary.dcf20-Jul-2024 06:41 269