Back to Multiple platform build/check report for BioC 3.18:   simplified   long
ABCDEFGHIJKLMNO[P]QRSTUVWXYZ

This page was generated on 2024-03-29 11:37:09 -0400 (Fri, 29 Mar 2024).

HostnameOSArch (*)R versionInstalled pkgs
nebbiolo2Linux (Ubuntu 22.04.3 LTS)x86_644.3.3 (2024-02-29) -- "Angel Food Cake" 4669
palomino4Windows Server 2022 Datacenterx644.3.3 (2024-02-29 ucrt) -- "Angel Food Cake" 4404
merida1macOS 12.7.1 Montereyx86_644.3.3 (2024-02-29) -- "Angel Food Cake" 4427
Click on any hostname to see more info about the system (e.g. compilers)      (*) as reported by 'uname -p', except on Windows and Mac OS X

Package 1611/2266HostnameOS / ArchINSTALLBUILDCHECKBUILD BIN
ptairMS 1.10.0  (landing page)
camille Roquencourt
Snapshot Date: 2024-03-27 14:05:05 -0400 (Wed, 27 Mar 2024)
git_url: https://git.bioconductor.org/packages/ptairMS
git_branch: RELEASE_3_18
git_last_commit: 4b718ce
git_last_commit_date: 2023-10-24 11:31:48 -0400 (Tue, 24 Oct 2023)
nebbiolo2Linux (Ubuntu 22.04.3 LTS) / x86_64  OK    OK    WARNINGS  UNNEEDED, same version is already published
palomino4Windows Server 2022 Datacenter / x64  OK    OK    WARNINGS    OK  UNNEEDED, same version is already published
merida1macOS 12.7.1 Monterey / x86_64  OK    OK    WARNINGS    OK  UNNEEDED, same version is already published
kjohnson1macOS 13.6.1 Ventura / arm64see weekly results here

INSTALL results for ptairMS on palomino4


To the developers/maintainers of the ptairMS package:
- Allow up to 24 hours (and sometimes 48 hours) for your latest push to git@git.bioconductor.org:packages/ptairMS.git to reflect on this report. See Troubleshooting Build Report for more information.
- Use the following Renviron settings to reproduce errors and warnings.
- If 'R CMD check' started to fail recently on the Linux builder(s) over a missing dependency, add the missing dependency to 'Suggests:' in your DESCRIPTION file. See Renviron.bioc for more information.

raw results


Summary

Package: ptairMS
Version: 1.10.0
Command: F:\biocbuild\bbs-3.18-bioc\R\bin\R.exe CMD INSTALL ptairMS
StartedAt: 2024-03-27 16:46:51 -0400 (Wed, 27 Mar 2024)
EndedAt: 2024-03-27 16:47:33 -0400 (Wed, 27 Mar 2024)
EllapsedTime: 42.1 seconds
RetCode: 0
Status:   OK  

Command output

##############################################################################
##############################################################################
###
### Running command:
###
###   F:\biocbuild\bbs-3.18-bioc\R\bin\R.exe CMD INSTALL ptairMS
###
##############################################################################
##############################################################################


* installing to library 'F:/biocbuild/bbs-3.18-bioc/R/library'
* installing *source* package 'ptairMS' ...
** using staged installation
** libs
using C++ compiler: 'G__~1.EXE (GCC) 12.3.0'
g++ -std=gnu++17  -I"F:/biocbuild/bbs-3.18-bioc/R/include" -DNDEBUG  -I'F:/biocbuild/bbs-3.18-bioc/R/library/Rcpp/include'   -I"C:/rtools43/x86_64-w64-mingw32.static.posix/include"     -O2 -Wall  -mfpmath=sse -msse2 -mstackrealign  -c RcppExports.cpp -o RcppExports.o
g++ -std=gnu++17  -I"F:/biocbuild/bbs-3.18-bioc/R/include" -DNDEBUG  -I'F:/biocbuild/bbs-3.18-bioc/R/library/Rcpp/include'   -I"C:/rtools43/x86_64-w64-mingw32.static.posix/include"     -O2 -Wall  -mfpmath=sse -msse2 -mstackrealign  -c align.cpp -o align.o
g++ -std=gnu++17  -I"F:/biocbuild/bbs-3.18-bioc/R/include" -DNDEBUG  -I'F:/biocbuild/bbs-3.18-bioc/R/library/Rcpp/include'   -I"C:/rtools43/x86_64-w64-mingw32.static.posix/include"     -O2 -Wall  -mfpmath=sse -msse2 -mstackrealign  -c findEqualGreaterM.cpp -o findEqualGreaterM.o
g++ -std=gnu++17 -shared -s -static-libgcc -o ptairMS.dll tmp.def RcppExports.o align.o findEqualGreaterM.o -LC:/rtools43/x86_64-w64-mingw32.static.posix/lib/x64 -LC:/rtools43/x86_64-w64-mingw32.static.posix/lib -LF:/biocbuild/bbs-3.18-bioc/R/bin/x64 -lR
installing to F:/biocbuild/bbs-3.18-bioc/R/library/00LOCK-ptairMS/00new/ptairMS/libs/x64
** R
** inst
** byte-compile and prepare package for lazy loading
Warning: replacing previous import 'Biobase::cache' by 'bit64::cache' when loading 'ptairMS'
** help
*** installing help indices
** building package indices
** installing vignettes
** testing if installed package can be loaded from temporary location
Warning: replacing previous import 'Biobase::cache' by 'bit64::cache' when loading 'ptairMS'
** testing if installed package can be loaded from final location
Warning: replacing previous import 'Biobase::cache' by 'bit64::cache' when loading 'ptairMS'
** testing if installed package keeps a record of temporary installation path
* DONE (ptairMS)