Name | Last modified | Size | Description | |
---|---|---|---|---|
Parent Directory | - | |||
install-summary.dcf | 12-Jun-2024 03:44 | 275 | ||
buildsrc-summary.dcf | 12-Jun-2024 03:44 | 437 | ||
checksrc-summary.dcf | 12-Jun-2024 03:44 | 456 | ||
buildbin-summary.dcf | 12-Jun-2024 03:44 | 548 | ||
buildsrc-out.txt | 12-Jun-2024 03:44 | 828 | ||
install-out.txt | 12-Jun-2024 03:44 | 1.0K | ||
buildbin-out.txt | 12-Jun-2024 03:44 | 1.2K | ||
checksrc-out.txt | 12-Jun-2024 03:44 | 8.4K | ||