Index of /checkResults/release/bioc-LATEST/psichomics/raw-results

[ICO]NameLast modifiedSizeDescription

[DIR]Parent Directory  -  
[   ]info.dcf30-Nov-2022 01:10 296  
[DIR]kjohnson/12-Jul-2022 00:06 -  
[DIR]lconway/30-Nov-2022 01:10 -  
[DIR]nebbiolo2/30-Nov-2022 01:06 -  
[DIR]palomino4/30-Nov-2022 01:08 -