Name | Last modified | Size | Description | |
---|---|---|---|---|
Parent Directory | - | |||
checksrc-out.txt | 17-Jul-2024 06:40 | 3.5K | ||
buildbin-out.txt | 17-Jul-2024 06:40 | 1.1K | ||
install-out.txt | 17-Jul-2024 06:40 | 1.0K | ||
buildsrc-out.txt | 17-Jul-2024 06:40 | 939 | ||
buildbin-summary.dcf | 17-Jul-2024 06:40 | 562 | ||
buildsrc-summary.dcf | 17-Jul-2024 06:40 | 484 | ||
checksrc-summary.dcf | 17-Jul-2024 06:40 | 478 | ||
install-summary.dcf | 17-Jul-2024 06:40 | 284 | ||