Name | Last modified | Size | Description | |
---|---|---|---|---|
Parent Directory | - | |||
buildbin-out.txt | 29-Jun-2024 06:42 | 1.1K | ||
buildbin-summary.dcf | 29-Jun-2024 06:42 | 563 | ||
buildsrc-out.txt | 29-Jun-2024 06:42 | 939 | ||
buildsrc-summary.dcf | 29-Jun-2024 06:42 | 484 | ||
checksrc-out.txt | 29-Jun-2024 06:42 | 3.5K | ||
checksrc-summary.dcf | 29-Jun-2024 06:42 | 478 | ||
install-out.txt | 29-Jun-2024 06:42 | 1.0K | ||
install-summary.dcf | 29-Jun-2024 06:42 | 284 | ||