Name | Last modified | Size | Description | |
---|---|---|---|---|
Parent Directory | - | |||
checksrc-out.txt | 10-May-2024 00:41 | 3.5K | ||
install-out.txt | 10-May-2024 00:41 | 1.0K | ||
buildsrc-out.txt | 10-May-2024 00:41 | 912 | ||
checksrc-summary.dcf | 10-May-2024 00:41 | 482 | ||
buildsrc-summary.dcf | 10-May-2024 00:41 | 451 | ||
install-summary.dcf | 10-May-2024 00:41 | 286 | ||