Index of /checkResults/release/bioc-LATEST/protGear/raw-results

[ICO]NameLast modifiedSizeDescription

[DIR]Parent Directory  -  
[   ]info.dcf28-Nov-2023 01:37 270  
[DIR]kunpeng2/03-Nov-2023 00:41 -  
[DIR]lconway/28-Nov-2023 01:37 -  
[DIR]nebbiolo2/28-Nov-2023 01:36 -  
[DIR]palomino4/28-Nov-2023 01:36 -