Back to Multiple platform build/check report for BioC 3.15
ABCDEFGHIJKLMNO[P]QRSTUVWXYZ

This page was generated on 2022-06-24 12:07:59 -0400 (Fri, 24 Jun 2022).

HostnameOSArch (*)R versionInstalled pkgs
nebbiolo1Linux (Ubuntu 20.04.4 LTS)x86_644.2.0 (2022-04-22) -- "Vigorous Calisthenics" 4380
palomino3Windows Server 2022 Datacenterx644.2.0 (2022-04-22 ucrt) -- "Vigorous Calisthenics" 4156
merida1macOS 10.14.6 Mojavex86_644.2.0 (2022-04-22) -- "Vigorous Calisthenics" 4221
Click on any hostname to see more info about the system (e.g. compilers)      (*) as reported by 'uname -p', except on Windows and Mac OS X

CHECK results for projectR on merida1


To the developers/maintainers of the projectR package:
- Please allow up to 24 hours (and sometimes 48 hours) for your latest push to git@git.bioconductor.org:packages/projectR.git to
reflect on this report. See How and When does the builder pull? When will my changes propagate? for more information.
- Make sure to use the following settings in order to reproduce any error or warning you see on this page.

raw results

Package 1504/2140HostnameOS / ArchINSTALLBUILDCHECKBUILD BIN
projectR 1.12.0  (landing page)
Genevieve Stein-O'Brien
Snapshot Date: 2022-06-23 13:55:15 -0400 (Thu, 23 Jun 2022)
git_url: https://git.bioconductor.org/packages/projectR
git_branch: RELEASE_3_15
git_last_commit: 083c303
git_last_commit_date: 2022-04-26 11:54:02 -0400 (Tue, 26 Apr 2022)
nebbiolo1Linux (Ubuntu 20.04.4 LTS) / x86_64  OK    OK    OK  UNNEEDED, same version is already published
palomino3Windows Server 2022 Datacenter / x64  OK    OK    OK    OK  UNNEEDED, same version is already published
merida1macOS 10.14.6 Mojave / x86_64  OK    OK    OK    NA  

Summary

Package: projectR
Version: 1.12.0
Command: /Library/Frameworks/R.framework/Resources/bin/R CMD check --install=check:projectR.install-out.txt --library=/Library/Frameworks/R.framework/Resources/library --no-vignettes --timings projectR_1.12.0.tar.gz
StartedAt: 2022-06-24 06:59:48 -0400 (Fri, 24 Jun 2022)
EndedAt: 2022-06-24 07:07:00 -0400 (Fri, 24 Jun 2022)
EllapsedTime: 431.1 seconds
RetCode: 0
Status:   OK  
CheckDir: projectR.Rcheck
Warnings: 0

Command output

##############################################################################
##############################################################################
###
### Running command:
###
###   /Library/Frameworks/R.framework/Resources/bin/R CMD check --install=check:projectR.install-out.txt --library=/Library/Frameworks/R.framework/Resources/library --no-vignettes --timings projectR_1.12.0.tar.gz
###
##############################################################################
##############################################################################


* using log directory ‘/Users/biocbuild/bbs-3.15-bioc/meat/projectR.Rcheck’
* using R version 4.2.0 (2022-04-22)
* using platform: x86_64-apple-darwin17.0 (64-bit)
* using session charset: UTF-8
* using option ‘--no-vignettes’
* checking for file ‘projectR/DESCRIPTION’ ... OK
* checking extension type ... Package
* this is package ‘projectR’ version ‘1.12.0’
* package encoding: UTF-8
* checking package namespace information ... OK
* checking package dependencies ... OK
* checking if this is a source package ... OK
* checking if there is a namespace ... OK
* checking for hidden files and directories ... NOTE
Found the following hidden files and directories:
  .travis.yml
These were most likely included in error. See section ‘Package
structure’ in the ‘Writing R Extensions’ manual.
* checking for portable file names ... OK
* checking for sufficient/correct file permissions ... OK
* checking whether package ‘projectR’ can be installed ... OK
* checking installed package size ... OK
* checking package directory ... OK
* checking ‘build’ directory ... OK
* checking DESCRIPTION meta-information ... OK
* checking top-level files ... NOTE
File
  LICENSE
is not mentioned in the DESCRIPTION file.
* checking for left-over files ... OK
* checking index information ... OK
* checking package subdirectories ... OK
* checking R files for non-ASCII characters ... OK
* checking R files for syntax errors ... OK
* checking whether the package can be loaded ... OK
* checking whether the package can be loaded with stated dependencies ... OK
* checking whether the package can be unloaded cleanly ... OK
* checking whether the namespace can be loaded with stated dependencies ... OK
* checking whether the namespace can be unloaded cleanly ... OK
* checking dependencies in R code ... OK
* checking S3 generic/method consistency ... OK
* checking replacement functions ... OK
* checking foreign function calls ... OK
* checking R code for possible problems ... NOTE
alluvialMat: no visible binding for global variable ‘celltype’
alluvialMat: no visible binding for global variable ‘variable’
alluvialMat: no visible binding for global variable ‘value’
alluvialMat: no visible binding for global variable ‘nCells’
alluvialMat: no visible binding for global variable ‘nCells_per_type’
alluvialMat: no visible binding for global variable
  ‘nCells_per_pattern’
alluvialMat: no visible binding for global variable ‘prop’
Undefined global functions or variables:
  celltype nCells nCells_per_pattern nCells_per_type prop value
  variable
* checking Rd files ... OK
* checking Rd metadata ... OK
* checking Rd cross-references ... OK
* checking for missing documentation entries ... OK
* checking for code/documentation mismatches ... OK
* checking Rd \usage sections ... OK
* checking Rd contents ... OK
* checking for unstated dependencies in examples ... OK
* checking contents of ‘data’ directory ... OK
* checking data for non-ASCII characters ... OK
* checking LazyData ... OK
* checking data for ASCII and uncompressed saves ... OK
* checking sizes of PDF files under ‘inst/doc’ ... OK
* checking files in ‘vignettes’ ... OK
* checking examples ... OK
Examples with CPU (user + system) or elapsed time > 5s
                   user system elapsed
projectR-methods 44.897   0.12  45.471
* checking for unstated dependencies in ‘tests’ ... OK
* checking tests ...
  Running ‘testthat.R’
 OK
* checking for unstated dependencies in vignettes ... OK
* checking package vignettes in ‘inst/doc’ ... OK
* checking running R code from vignettes ... SKIPPED
* checking re-building of vignette outputs ... SKIPPED
* checking PDF version of manual ... OK
* DONE

Status: 3 NOTEs
See
  ‘/Users/biocbuild/bbs-3.15-bioc/meat/projectR.Rcheck/00check.log’
for details.



Installation output

projectR.Rcheck/00install.out

##############################################################################
##############################################################################
###
### Running command:
###
###   /Library/Frameworks/R.framework/Resources/bin/R CMD INSTALL projectR
###
##############################################################################
##############################################################################


* installing to library ‘/Library/Frameworks/R.framework/Versions/4.2/Resources/library’
* installing *source* package ‘projectR’ ...
** using staged installation
** R
** data
*** moving datasets to lazyload DB
** byte-compile and prepare package for lazy loading
** help
*** installing help indices
** building package indices
** installing vignettes
** testing if installed package can be loaded from temporary location
** testing if installed package can be loaded from final location
** testing if installed package keeps a record of temporary installation path
* DONE (projectR)

Tests output

projectR.Rcheck/tests/testthat.Rout


R version 4.2.0 (2022-04-22) -- "Vigorous Calisthenics"
Copyright (C) 2022 The R Foundation for Statistical Computing
Platform: x86_64-apple-darwin17.0 (64-bit)

R is free software and comes with ABSOLUTELY NO WARRANTY.
You are welcome to redistribute it under certain conditions.
Type 'license()' or 'licence()' for distribution details.

R is a collaborative project with many contributors.
Type 'contributors()' for more information and
'citation()' on how to cite R or R packages in publications.

Type 'demo()' for some demos, 'help()' for on-line help, or
'help.start()' for an HTML browser interface to help.
Type 'q()' to quit R.

> library(testthat)
> library(projectR)
> 
> test_check("projectR")

This is CoGAPS version 3.16.0 
Running Standard CoGAPS on p.RNAseq6l3c3t (108 genes and 54 samples) with parameters:

-- Standard Parameters --
nPatterns            5 
nIterations          50000 
seed                 170 
sparseOptimization   FALSE 

-- Sparsity Parameters --
alpha          0.01 
maxGibbsMass   100 

Data Model: Dense, Normal
Sampler Type: Sequential
Loading Data...Done! (00:00:00)
-- Equilibration Phase --
1000 of 50000, Atoms: 216(A), 103(P), ChiSq: 53738, Time: 00:00:00 / 00:00:00
2000 of 50000, Atoms: 261(A), 154(P), ChiSq: 37570, Time: 00:00:00 / 00:00:00
3000 of 50000, Atoms: 289(A), 176(P), ChiSq: 34544, Time: 00:00:00 / 00:00:00
4000 of 50000, Atoms: 281(A), 160(P), ChiSq: 33527, Time: 00:00:01 / 00:00:36
5000 of 50000, Atoms: 331(A), 182(P), ChiSq: 32277, Time: 00:00:01 / 00:00:27
6000 of 50000, Atoms: 352(A), 190(P), ChiSq: 31599, Time: 00:00:01 / 00:00:22
7000 of 50000, Atoms: 355(A), 190(P), ChiSq: 30924, Time: 00:00:02 / 00:00:38
8000 of 50000, Atoms: 369(A), 210(P), ChiSq: 29912, Time: 00:00:02 / 00:00:32
9000 of 50000, Atoms: 397(A), 193(P), ChiSq: 29561, Time: 00:00:03 / 00:00:43
10000 of 50000, Atoms: 407(A), 197(P), ChiSq: 29405, Time: 00:00:03 / 00:00:38
11000 of 50000, Atoms: 417(A), 210(P), ChiSq: 29271, Time: 00:00:03 / 00:00:34
12000 of 50000, Atoms: 407(A), 208(P), ChiSq: 29040, Time: 00:00:04 / 00:00:41
13000 of 50000, Atoms: 426(A), 209(P), ChiSq: 28992, Time: 00:00:04 / 00:00:38
14000 of 50000, Atoms: 408(A), 218(P), ChiSq: 28778, Time: 00:00:05 / 00:00:43
15000 of 50000, Atoms: 420(A), 214(P), ChiSq: 28768, Time: 00:00:05 / 00:00:40
16000 of 50000, Atoms: 434(A), 218(P), ChiSq: 28872, Time: 00:00:05 / 00:00:37
17000 of 50000, Atoms: 435(A), 216(P), ChiSq: 28597, Time: 00:00:06 / 00:00:42
18000 of 50000, Atoms: 461(A), 225(P), ChiSq: 28469, Time: 00:00:06 / 00:00:39
19000 of 50000, Atoms: 443(A), 220(P), ChiSq: 28527, Time: 00:00:07 / 00:00:43
20000 of 50000, Atoms: 458(A), 215(P), ChiSq: 28447, Time: 00:00:07 / 00:00:41
21000 of 50000, Atoms: 462(A), 232(P), ChiSq: 28418, Time: 00:00:08 / 00:00:44
22000 of 50000, Atoms: 448(A), 243(P), ChiSq: 28337, Time: 00:00:08 / 00:00:42
23000 of 50000, Atoms: 461(A), 231(P), ChiSq: 28273, Time: 00:00:08 / 00:00:40
24000 of 50000, Atoms: 462(A), 247(P), ChiSq: 28214, Time: 00:00:09 / 00:00:43
25000 of 50000, Atoms: 481(A), 224(P), ChiSq: 28370, Time: 00:00:09 / 00:00:41
26000 of 50000, Atoms: 476(A), 221(P), ChiSq: 28196, Time: 00:00:10 / 00:00:44
27000 of 50000, Atoms: 471(A), 229(P), ChiSq: 28192, Time: 00:00:10 / 00:00:42
28000 of 50000, Atoms: 464(A), 235(P), ChiSq: 28255, Time: 00:00:11 / 00:00:44
29000 of 50000, Atoms: 480(A), 224(P), ChiSq: 28269, Time: 00:00:11 / 00:00:42
30000 of 50000, Atoms: 483(A), 234(P), ChiSq: 28227, Time: 00:00:12 / 00:00:45
31000 of 50000, Atoms: 464(A), 243(P), ChiSq: 28244, Time: 00:00:12 / 00:00:43
32000 of 50000, Atoms: 488(A), 225(P), ChiSq: 28215, Time: 00:00:12 / 00:00:42
33000 of 50000, Atoms: 472(A), 228(P), ChiSq: 28242, Time: 00:00:13 / 00:00:44
34000 of 50000, Atoms: 480(A), 231(P), ChiSq: 28223, Time: 00:00:13 / 00:00:42
35000 of 50000, Atoms: 480(A), 247(P), ChiSq: 28279, Time: 00:00:14 / 00:00:44
36000 of 50000, Atoms: 454(A), 236(P), ChiSq: 28282, Time: 00:00:14 / 00:00:43
37000 of 50000, Atoms: 467(A), 234(P), ChiSq: 28175, Time: 00:00:15 / 00:00:44
38000 of 50000, Atoms: 472(A), 235(P), ChiSq: 28265, Time: 00:00:15 / 00:00:43
39000 of 50000, Atoms: 491(A), 230(P), ChiSq: 28214, Time: 00:00:16 / 00:00:45
40000 of 50000, Atoms: 478(A), 234(P), ChiSq: 28221, Time: 00:00:16 / 00:00:43
41000 of 50000, Atoms: 480(A), 220(P), ChiSq: 28214, Time: 00:00:16 / 00:00:42
42000 of 50000, Atoms: 457(A), 237(P), ChiSq: 28238, Time: 00:00:17 / 00:00:44
43000 of 50000, Atoms: 485(A), 237(P), ChiSq: 28257, Time: 00:00:17 / 00:00:42
44000 of 50000, Atoms: 469(A), 223(P), ChiSq: 28222, Time: 00:00:18 / 00:00:44
45000 of 50000, Atoms: 474(A), 236(P), ChiSq: 28206, Time: 00:00:18 / 00:00:43
46000 of 50000, Atoms: 471(A), 223(P), ChiSq: 28200, Time: 00:00:19 / 00:00:44
47000 of 50000, Atoms: 488(A), 231(P), ChiSq: 28312, Time: 00:00:19 / 00:00:43
48000 of 50000, Atoms: 471(A), 234(P), ChiSq: 28252, Time: 00:00:19 / 00:00:42
49000 of 50000, Atoms: 465(A), 228(P), ChiSq: 28206, Time: 00:00:20 / 00:00:43
50000 of 50000, Atoms: 453(A), 229(P), ChiSq: 28241, Time: 00:00:20 / 00:00:42
-- Sampling Phase --
1000 of 50000, Atoms: 470(A), 226(P), ChiSq: 28199, Time: 00:00:21 / 00:00:43
2000 of 50000, Atoms: 457(A), 237(P), ChiSq: 28229, Time: 00:00:21 / 00:00:43
3000 of 50000, Atoms: 482(A), 223(P), ChiSq: 28211, Time: 00:00:22 / 00:00:44
4000 of 50000, Atoms: 469(A), 229(P), ChiSq: 28237, Time: 00:00:22 / 00:00:43
5000 of 50000, Atoms: 485(A), 245(P), ChiSq: 28156, Time: 00:00:23 / 00:00:44
6000 of 50000, Atoms: 449(A), 222(P), ChiSq: 28222, Time: 00:00:23 / 00:00:43
7000 of 50000, Atoms: 459(A), 227(P), ChiSq: 28262, Time: 00:00:24 / 00:00:44
8000 of 50000, Atoms: 471(A), 239(P), ChiSq: 28222, Time: 00:00:24 / 00:00:43
9000 of 50000, Atoms: 474(A), 232(P), ChiSq: 28191, Time: 00:00:25 / 00:00:44
10000 of 50000, Atoms: 481(A), 247(P), ChiSq: 28222, Time: 00:00:25 / 00:00:43
11000 of 50000, Atoms: 464(A), 225(P), ChiSq: 28256, Time: 00:00:25 / 00:00:43
12000 of 50000, Atoms: 466(A), 227(P), ChiSq: 28279, Time: 00:00:26 / 00:00:43
13000 of 50000, Atoms: 478(A), 238(P), ChiSq: 28211, Time: 00:00:26 / 00:00:43
14000 of 50000, Atoms: 479(A), 232(P), ChiSq: 28211, Time: 00:00:27 / 00:00:44
15000 of 50000, Atoms: 466(A), 235(P), ChiSq: 28262, Time: 00:00:27 / 00:00:43
16000 of 50000, Atoms: 483(A), 226(P), ChiSq: 28202, Time: 00:00:28 / 00:00:44
17000 of 50000, Atoms: 455(A), 230(P), ChiSq: 28214, Time: 00:00:28 / 00:00:43
18000 of 50000, Atoms: 464(A), 245(P), ChiSq: 28223, Time: 00:00:29 / 00:00:44
19000 of 50000, Atoms: 464(A), 229(P), ChiSq: 28237, Time: 00:00:29 / 00:00:43
20000 of 50000, Atoms: 448(A), 239(P), ChiSq: 28252, Time: 00:00:30 / 00:00:44
21000 of 50000, Atoms: 477(A), 236(P), ChiSq: 28284, Time: 00:00:30 / 00:00:43
22000 of 50000, Atoms: 461(A), 237(P), ChiSq: 28191, Time: 00:00:31 / 00:00:44
23000 of 50000, Atoms: 463(A), 235(P), ChiSq: 28218, Time: 00:00:31 / 00:00:43
24000 of 50000, Atoms: 474(A), 229(P), ChiSq: 28180, Time: 00:00:31 / 00:00:43
25000 of 50000, Atoms: 459(A), 233(P), ChiSq: 28266, Time: 00:00:32 / 00:00:43
26000 of 50000, Atoms: 453(A), 245(P), ChiSq: 28282, Time: 00:00:32 / 00:00:43
27000 of 50000, Atoms: 480(A), 235(P), ChiSq: 28270, Time: 00:00:33 / 00:00:43
28000 of 50000, Atoms: 471(A), 237(P), ChiSq: 28253, Time: 00:00:33 / 00:00:43
29000 of 50000, Atoms: 444(A), 210(P), ChiSq: 28295, Time: 00:00:34 / 00:00:44
30000 of 50000, Atoms: 457(A), 229(P), ChiSq: 28241, Time: 00:00:34 / 00:00:43
31000 of 50000, Atoms: 466(A), 233(P), ChiSq: 28255, Time: 00:00:35 / 00:00:44
32000 of 50000, Atoms: 454(A), 237(P), ChiSq: 28220, Time: 00:00:35 / 00:00:43
33000 of 50000, Atoms: 485(A), 236(P), ChiSq: 28217, Time: 00:00:36 / 00:00:44
34000 of 50000, Atoms: 488(A), 237(P), ChiSq: 28245, Time: 00:00:36 / 00:00:43
35000 of 50000, Atoms: 453(A), 246(P), ChiSq: 28259, Time: 00:00:37 / 00:00:44
36000 of 50000, Atoms: 486(A), 232(P), ChiSq: 28164, Time: 00:00:37 / 00:00:43
37000 of 50000, Atoms: 481(A), 220(P), ChiSq: 28234, Time: 00:00:37 / 00:00:43
38000 of 50000, Atoms: 484(A), 230(P), ChiSq: 28288, Time: 00:00:38 / 00:00:43
39000 of 50000, Atoms: 462(A), 224(P), ChiSq: 28247, Time: 00:00:38 / 00:00:43
40000 of 50000, Atoms: 479(A), 235(P), ChiSq: 28273, Time: 00:00:39 / 00:00:43
41000 of 50000, Atoms: 477(A), 230(P), ChiSq: 28236, Time: 00:00:39 / 00:00:43
42000 of 50000, Atoms: 480(A), 224(P), ChiSq: 28244, Time: 00:00:40 / 00:00:43
43000 of 50000, Atoms: 474(A), 232(P), ChiSq: 28141, Time: 00:00:40 / 00:00:43
44000 of 50000, Atoms: 461(A), 223(P), ChiSq: 28240, Time: 00:00:41 / 00:00:43
45000 of 50000, Atoms: 470(A), 225(P), ChiSq: 28286, Time: 00:00:41 / 00:00:43
46000 of 50000, Atoms: 475(A), 242(P), ChiSq: 28182, Time: 00:00:42 / 00:00:43
47000 of 50000, Atoms: 450(A), 223(P), ChiSq: 28198, Time: 00:00:42 / 00:00:43
48000 of 50000, Atoms: 481(A), 237(P), ChiSq: 28223, Time: 00:00:43 / 00:00:43
49000 of 50000, Atoms: 483(A), 230(P), ChiSq: 28180, Time: 00:00:43 / 00:00:43
50000 of 50000, Atoms: 469(A), 221(P), ChiSq: 28249, Time: 00:00:44 / 00:00:44
[1] "93 row names matched between data and loadings"
[1] "Updated dimension of data: 93 9"
[1] "93 row names matched between data and loadings"
[1] "Updated dimension of data: 93 9"
[1] "93 row names matched between data and loadings"
[1] "Updated dimension of data: 93 9"
[ FAIL 0 | WARN 13 | SKIP 0 | PASS 24 ]

[ FAIL 0 | WARN 13 | SKIP 0 | PASS 24 ]
> 
> proc.time()
   user  system elapsed 
 61.088   0.760  62.124 

Example timings

projectR.Rcheck/projectR-Ex.timings

nameusersystemelapsed
alluvialMat1.6600.0161.684
aucMat0.1460.0010.149
cluster2pattern-methods0.2790.0480.331
clusterPlotR-methods0.0000.0000.001
correlateR0.2800.0360.317
geneMatchR0.0250.0270.054
intersectoR-methods0.0410.0070.048
projectR-methods44.897 0.12045.471
rotatoR0.0070.0010.008