Index of /checkResults/release/bioc-LATEST/profileplyr/raw-results/nebbiolo2

[ICO]NameLast modifiedSizeDescription

[DIR]Parent Directory  -  
[TXT]buildsrc-out.txt01-Mar-2024 01:36 885  
[   ]buildsrc-summary.dcf01-Mar-2024 01:36 430  
[TXT]checksrc-out.txt01-Mar-2024 01:36 4.1K 
[   ]checksrc-summary.dcf01-Mar-2024 01:36 430  
[TXT]install-out.txt01-Mar-2024 01:36 972  
[   ]install-summary.dcf01-Mar-2024 01:36 267