Back to Multiple platform build/check report for BioC 3.12
ABCDEFGHIJKLMNO[P]QRSTUVWXYZ

INSTALL report for proFIA on tokay1

This page was generated on 2021-03-03 12:15:48 -0500 (Wed, 03 Mar 2021).

To the developers/maintainers of the proFIA package:
Please make sure to use the following settings in order to reproduce any error or warning you see on this page.
Package 1392/1974HostnameOS / ArchINSTALLBUILDCHECKBUILD BIN
proFIA 1.16.0
Alexis Delabriere
Snapshot Date: 2021-03-02 14:50:31 -0500 (Tue, 02 Mar 2021)
URL: https://git.bioconductor.org/packages/proFIA
Branch: RELEASE_3_12
Last Commit: 18a3bec
Last Changed Date: 2020-10-27 11:19:13 -0500 (Tue, 27 Oct 2020)
malbec1Linux (Ubuntu 18.04.5 LTS) / x86_64  OK    ERROR  skipped
nebbiolo1Linux (Ubuntu 20.04.2 LTS) / x86_64  OK    ERROR  skipped
tokay1Windows Server 2012 R2 Standard / x64  OK    ERROR  skippedskipped
merida1macOS 10.14.6 Mojave / x86_64  OK    ERROR  skippedskipped

Summary

Package: proFIA
Version: 1.16.0
Command: C:\cygwin\bin\curl.exe -O https://malbec1.bioconductor.org/BBS/3.12/bioc/src/contrib/proFIA_1.16.0.tar.gz && rm -rf proFIA.buildbin-libdir && mkdir proFIA.buildbin-libdir && C:\Users\biocbuild\bbs-3.12-bioc\R\bin\R.exe CMD INSTALL --merge-multiarch --build --library=proFIA.buildbin-libdir proFIA_1.16.0.tar.gz && C:\Users\biocbuild\bbs-3.12-bioc\R\bin\R.exe CMD INSTALL proFIA_1.16.0.zip && rm proFIA_1.16.0.tar.gz proFIA_1.16.0.zip
StartedAt: 2021-03-02 18:24:45 -0500 (Tue, 02 Mar 2021)
EndedAt: 2021-03-02 18:26:28 -0500 (Tue, 02 Mar 2021)
EllapsedTime: 102.2 seconds
RetCode: 0
Status:   OK   

Command output

##############################################################################
##############################################################################
###
### Running command:
###
###   C:\cygwin\bin\curl.exe -O https://malbec1.bioconductor.org/BBS/3.12/bioc/src/contrib/proFIA_1.16.0.tar.gz && rm -rf proFIA.buildbin-libdir && mkdir proFIA.buildbin-libdir && C:\Users\biocbuild\bbs-3.12-bioc\R\bin\R.exe CMD INSTALL --merge-multiarch --build --library=proFIA.buildbin-libdir proFIA_1.16.0.tar.gz && C:\Users\biocbuild\bbs-3.12-bioc\R\bin\R.exe CMD INSTALL proFIA_1.16.0.zip && rm proFIA_1.16.0.tar.gz proFIA_1.16.0.zip
###
##############################################################################
##############################################################################


  % Total    % Received % Xferd  Average Speed   Time    Time     Time  Current
                                 Dload  Upload   Total   Spent    Left  Speed

  0     0    0     0    0     0      0      0 --:--:-- --:--:-- --:--:--     0
100  309k  100  309k    0     0  7616k      0 --:--:-- --:--:-- --:--:-- 8355k

install for i386

* installing *source* package 'proFIA' ...
** using staged installation
** libs
"C:/rtools40/mingw32/bin/"gcc  -I"C:/Users/BIOCBU~1/BBS-3~1.12-/R/include" -DNDEBUG     -I"C:/extsoft/include"     -O2 -Wall  -std=gnu99 -mfpmath=sse -msse2 -mstackrealign -c FIABandsExtractionCentroid.c -o FIABandsExtractionCentroid.o
"C:/rtools40/mingw32/bin/"gcc  -I"C:/Users/BIOCBU~1/BBS-3~1.12-/R/include" -DNDEBUG     -I"C:/extsoft/include"     -O2 -Wall  -std=gnu99 -mfpmath=sse -msse2 -mstackrealign -c UtilFunc.c -o UtilFunc.o
"C:/rtools40/mingw32/bin/"gcc  -I"C:/Users/BIOCBU~1/BBS-3~1.12-/R/include" -DNDEBUG     -I"C:/extsoft/include"     -O2 -Wall  -std=gnu99 -mfpmath=sse -msse2 -mstackrealign -c fastMatchPpm.c -o fastMatchPpm.o
C:/rtools40/mingw32/bin/gcc -shared -s -static-libgcc -o proFIA.dll tmp.def FIABandsExtractionCentroid.o UtilFunc.o fastMatchPpm.o -LC:/extsoft/lib/i386 -LC:/extsoft/lib -LC:/Users/BIOCBU~1/BBS-3~1.12-/R/bin/i386 -lR
installing to C:/Users/biocbuild/bbs-3.12-bioc/meat/proFIA.buildbin-libdir/00LOCK-proFIA/00new/proFIA/libs/i386
** R
** inst
** byte-compile and prepare package for lazy loading
** help
*** installing help indices
  converting help for package 'proFIA'
    finding HTML links ... done
    acquisitionDirectory                    html  
    analyzeAcquisitionFIA                   html  
    determiningInjectionZone                html  
    determiningSizePeak.Geom                html  
    estimateNoiseMS                         html  
    exportDataMatrix-proFIAset-method       html  
    exportExpressionSet-proFIAset-method    html  
    exportPeakTable-proFIAset-method        html  
    exportSampleMetadata-proFIAset-method   html  
    exportVariableMetadata-proFIAset-method
                                            html  
    findBandsFIA                            html  
    findFIASignal                           html  
    findMzGroup-proFIAset-method            html  
    getInjectionPeak                        html  
    group.FIA-proFIAset-method              html  
    impute.FIA-proFIAset-method             html  
    impute.KNN_TN-proFIAset-method          html  
    impute.randomForest-proFIAset-method    html  
    makeDataMatrix-proFIAset-method         html  
    noiseEstimation-class                   html  
    peaksGroup-proFIAset-method             html  
    plot                                    html  
    plotFlowgrams-proFIAset-method          html  
    plotNoise                               html  
    plotRaw-proFIAset-method                html  
    plotSamplePeaks-proFIAset-method        html  
    proFIA-package                          html  
    proFIAset-class                         html  
    proFIAset                               html  
** building package indices
** installing vignettes
** testing if installed package can be loaded from temporary location
** testing if installed package can be loaded from final location
** testing if installed package keeps a record of temporary installation path

install for x64

* installing *source* package 'proFIA' ...
** libs
"C:/rtools40/mingw64/bin/"gcc  -I"C:/Users/BIOCBU~1/BBS-3~1.12-/R/include" -DNDEBUG     -I"C:/extsoft/include"     -O2 -Wall  -std=gnu99 -mfpmath=sse -msse2 -mstackrealign -c FIABandsExtractionCentroid.c -o FIABandsExtractionCentroid.o
"C:/rtools40/mingw64/bin/"gcc  -I"C:/Users/BIOCBU~1/BBS-3~1.12-/R/include" -DNDEBUG     -I"C:/extsoft/include"     -O2 -Wall  -std=gnu99 -mfpmath=sse -msse2 -mstackrealign -c UtilFunc.c -o UtilFunc.o
"C:/rtools40/mingw64/bin/"gcc  -I"C:/Users/BIOCBU~1/BBS-3~1.12-/R/include" -DNDEBUG     -I"C:/extsoft/include"     -O2 -Wall  -std=gnu99 -mfpmath=sse -msse2 -mstackrealign -c fastMatchPpm.c -o fastMatchPpm.o
C:/rtools40/mingw64/bin/gcc -shared -s -static-libgcc -o proFIA.dll tmp.def FIABandsExtractionCentroid.o UtilFunc.o fastMatchPpm.o -LC:/extsoft/lib/x64 -LC:/extsoft/lib -LC:/Users/BIOCBU~1/BBS-3~1.12-/R/bin/x64 -lR
installing to C:/Users/biocbuild/bbs-3.12-bioc/meat/proFIA.buildbin-libdir/proFIA/libs/x64
** testing if installed package can be loaded
* MD5 sums
packaged installation of 'proFIA' as proFIA_1.16.0.zip
* DONE (proFIA)
* installing to library 'C:/Users/biocbuild/bbs-3.12-bioc/R/library'
package 'proFIA' successfully unpacked and MD5 sums checked