Name | Last modified | Size | Description | |
---|---|---|---|---|
Parent Directory | - | |||
buildbin-out.txt | 13-Jul-2024 06:41 | 1.1K | ||
buildbin-summary.dcf | 13-Jul-2024 06:41 | 518 | ||
buildsrc-out.txt | 13-Jul-2024 06:41 | 848 | ||
buildsrc-summary.dcf | 13-Jul-2024 06:41 | 422 | ||
checksrc-out.txt | 13-Jul-2024 06:41 | 3.3K | ||
checksrc-summary.dcf | 13-Jul-2024 06:41 | 436 | ||
install-out.txt | 13-Jul-2024 06:41 | 1.0K | ||
install-summary.dcf | 13-Jul-2024 06:41 | 265 | ||