Name | Last modified | Size | Description | |
---|---|---|---|---|
Parent Directory | - | |||
install-out.txt | 29-Jun-2024 06:42 | 4.5K | ||
install-summary.dcf | 29-Jun-2024 06:42 | 264 | ||
buildsrc-out.txt | 29-Jun-2024 06:42 | 771 | ||
buildsrc-summary.dcf | 29-Jun-2024 06:42 | 443 | ||
checksrc-summary.dcf | 29-Jun-2024 06:42 | 444 | ||
checksrc-out.txt | 29-Jun-2024 06:42 | 4.3K | ||
buildbin-out.txt | 29-Jun-2024 06:42 | 4.7K | ||
buildbin-summary.dcf | 29-Jun-2024 06:42 | 503 | ||