Index of /checkResults/release/bioc-LATEST/plgem/raw-results
Name
Last modified
Size
Description
Parent Directory
-
merida1/
05-Mar-2024 01:39
-
info.dcf
05-May-2024 00:35
272
nebbiolo1/
05-May-2024 00:36
-
palomino3/
05-May-2024 00:38
-
lconway/
05-May-2024 00:39
-
kunpeng2/
05-May-2024 00:40
-