Index of /checkResults/release/bioc-LATEST/plethy/raw-results/merida1
Name
Last modified
Size
Description
Parent Directory
-
buildsrc-out.txt
30-Mar-2024 00:38
1.1K
buildsrc-summary.dcf
30-Mar-2024 00:38
340
install-out.txt
30-Mar-2024 00:38
915
install-summary.dcf
30-Mar-2024 00:38
269