Index of /checkResults/release/bioc-LATEST/plethy/raw-results
Name
Last modified
Size
Description
Parent Directory
-
info.dcf
26-May-2022 01:08
269
merida1/
26-May-2022 01:08
-
nebbiolo1/
26-May-2022 01:05
-
palomino3/
26-May-2022 01:07
-
riesling1/
19-Mar-2022 00:08
-