Name | Last modified | Size | Description | |
---|---|---|---|---|
Parent Directory | - | |||
install-summary.dcf | 17-Jul-2024 06:40 | 267 | ||
install-out.txt | 17-Jul-2024 06:40 | 971 | ||
checksrc-summary.dcf | 17-Jul-2024 06:40 | 444 | ||
checksrc-out.txt | 17-Jul-2024 06:40 | 3.2K | ||
buildsrc-summary.dcf | 17-Jul-2024 06:40 | 451 | ||
buildsrc-out.txt | 17-Jul-2024 06:40 | 898 | ||
buildbin-summary.dcf | 17-Jul-2024 06:40 | 511 | ||
buildbin-out.txt | 17-Jul-2024 06:40 | 1.1K | ||