Name | Last modified | Size | Description | |
---|---|---|---|---|
Parent Directory | - | |||
install-summary.dcf | 29-Jun-2024 06:42 | 279 | ||
install-out.txt | 29-Jun-2024 06:42 | 1.0K | ||
checksrc-summary.dcf | 29-Jun-2024 06:42 | 469 | ||
checksrc-out.txt | 29-Jun-2024 06:42 | 3.3K | ||
buildsrc-summary.dcf | 29-Jun-2024 06:42 | 474 | ||
buildsrc-out.txt | 29-Jun-2024 06:42 | 928 | ||
buildbin-summary.dcf | 29-Jun-2024 06:42 | 547 | ||
buildbin-out.txt | 29-Jun-2024 06:42 | 1.1K | ||