Name | Last modified | Size | Description | |
---|---|---|---|---|
Parent Directory | - | |||
install-summary.dcf | 15-Jun-2024 03:37 | 256 | ||
buildsrc-out.txt | 15-Jun-2024 03:37 | 865 | ||
buildsrc-summary.dcf | 15-Jun-2024 03:37 | 414 | ||
install-out.txt | 15-Jun-2024 03:37 | 1.0K | ||
checksrc-out.txt | 15-Jun-2024 03:37 | 3.7K | ||
checksrc-summary.dcf | 15-Jun-2024 03:37 | 409 | ||