Index of /checkResults/release/bioc-LATEST/pickgene/raw-results/kunpeng2

[ICO]NameLast modifiedSizeDescription

[DIR]Parent Directory  -  
[TXT]buildsrc-out.txt03-Nov-2023 00:41 804  
[   ]buildsrc-summary.dcf03-Nov-2023 00:41 413  
[TXT]checksrc-out.txt03-Nov-2023 00:41 4.8K 
[   ]checksrc-summary.dcf03-Nov-2023 00:41 426  
[TXT]install-out.txt03-Nov-2023 00:41 1.0K 
[   ]install-summary.dcf03-Nov-2023 00:41 255