Name | Last modified | Size | Description | |
---|---|---|---|---|
Parent Directory | - | |||
install-summary.dcf | 15-Jun-2024 03:37 | 267 | ||
buildsrc-summary.dcf | 15-Jun-2024 03:37 | 429 | ||
checksrc-summary.dcf | 15-Jun-2024 03:37 | 436 | ||
buildsrc-out.txt | 15-Jun-2024 03:37 | 885 | ||
install-out.txt | 15-Jun-2024 03:37 | 1.3K | ||
checksrc-out.txt | 15-Jun-2024 03:37 | 3.8K | ||